Package: DelayedMatrixStats Version: 1.26.0 Command: /Library/Frameworks/R.framework/Resources/bin/R CMD build --keep-empty-dirs --no-resave-data DelayedMatrixStats StartedAt: 2024-10-16 18:33:36 -0400 (Wed, 16 Oct 2024) EndedAt: 2024-10-16 18:45:47 -0400 (Wed, 16 Oct 2024) EllapsedTime: 731.0 seconds RetCode: 0 Status: OK PackageFile: DelayedMatrixStats_1.26.0.tar.gz PackageFileSize: 264.3 KiB