Package: DelayedMatrixStats Version: 1.26.0 Command: /Library/Frameworks/R.framework/Resources/bin/R CMD INSTALL DelayedMatrixStats StartedAt: 2024-06-09 15:08:31 -0400 (Sun, 09 Jun 2024) EndedAt: 2024-06-09 15:08:52 -0400 (Sun, 09 Jun 2024) EllapsedTime: 21.5 seconds RetCode: 0 Status: OK