Package: DelayedMatrixStats Version: 1.26.0 Command: /Library/Frameworks/R.framework/Resources/bin/R CMD INSTALL DelayedMatrixStats StartedAt: 2024-06-09 15:12:02 -0400 (Sun, 09 Jun 2024) EndedAt: 2024-06-09 15:12:29 -0400 (Sun, 09 Jun 2024) EllapsedTime: 26.9 seconds RetCode: 0 Status: OK