Package: DelayedMatrixStats Version: 1.26.0 Command: rm -rf DelayedMatrixStats.buildbin-libdir && mkdir DelayedMatrixStats.buildbin-libdir && /Users/biocbuild/BBS/utils/build-universal.sh DelayedMatrixStats_1.26.0.tar.gz /Library/Frameworks/R.framework/Resources/bin/R DelayedMatrixStats.buildbin-libdir StartedAt: 2024-10-18 18:08:11 -0400 (Fri, 18 Oct 2024) EndedAt: 2024-10-18 18:08:40 -0400 (Fri, 18 Oct 2024) EllapsedTime: 29.1 seconds RetCode: 0 Status: OK PackageFile: DelayedMatrixStats_1.26.0.tgz PackageFileSize: 713.2 KiB