Package: DelayedDataFrame Version: 1.20.0 Command: E:\biocbuild\bbs-3.19-bioc\R\bin\R.exe CMD INSTALL DelayedDataFrame StartedAt: 2024-10-16 16:13:27 -0400 (Wed, 16 Oct 2024) EndedAt: 2024-10-16 16:14:29 -0400 (Wed, 16 Oct 2024) EllapsedTime: 62.1 seconds RetCode: 0 Status: OK