Package: DelayedDataFrame Version: 1.20.0 Command: rm -rf DelayedDataFrame.buildbin-libdir && mkdir DelayedDataFrame.buildbin-libdir && E:\biocbuild\bbs-3.19-bioc\R\bin\R.exe CMD INSTALL --build --library=DelayedDataFrame.buildbin-libdir DelayedDataFrame_1.20.0.tar.gz StartedAt: 2024-10-17 07:40:01 -0400 (Thu, 17 Oct 2024) EndedAt: 2024-10-17 07:41:04 -0400 (Thu, 17 Oct 2024) EllapsedTime: 62.4 seconds RetCode: 0 Status: OK PackageFile: DelayedDataFrame_1.20.0.zip PackageFileSize: 922.1 KiB