Package: DelayedDataFrame Version: 1.20.0 Command: F:\biocbuild\bbs-3.19-bioc\R\bin\R.exe CMD INSTALL DelayedDataFrame StartedAt: 2024-06-26 15:47:48 -0400 (Wed, 26 Jun 2024) EndedAt: 2024-06-26 15:48:13 -0400 (Wed, 26 Jun 2024) EllapsedTime: 25.3 seconds RetCode: 0 Status: OK