Package: DelayedDataFrame Version: 1.20.0 Command: rm -rf DelayedDataFrame.buildbin-libdir && mkdir DelayedDataFrame.buildbin-libdir && F:\biocbuild\bbs-3.19-bioc\R\bin\R.exe CMD INSTALL --build --library=DelayedDataFrame.buildbin-libdir DelayedDataFrame_1.20.0.tar.gz StartedAt: 2024-06-27 08:05:58 -0400 (Thu, 27 Jun 2024) EndedAt: 2024-06-27 08:06:29 -0400 (Thu, 27 Jun 2024) EllapsedTime: 30.3 seconds RetCode: 0 Status: OK PackageFile: DelayedDataFrame_1.20.0.zip PackageFileSize: 921.3 KiB