Package: DelayedDataFrame Version: 1.20.0 Command: /Library/Frameworks/R.framework/Resources/bin/R CMD check --install=check:DelayedDataFrame.install-out.txt --library=/Library/Frameworks/R.framework/Resources/library --no-vignettes --timings DelayedDataFrame_1.20.0.tar.gz StartedAt: 2024-06-09 19:52:58 -0400 (Sun, 09 Jun 2024) EndedAt: 2024-06-09 19:55:15 -0400 (Sun, 09 Jun 2024) EllapsedTime: 136.6 seconds RetCode: 0 Status: OK CheckDir: DelayedDataFrame.Rcheck Warnings: 0