Package: DelayedDataFrame Version: 1.20.0 Command: /home/biocbuild/R/R-beta-2024-04-15_r86425/bin/R CMD build --keep-empty-dirs --no-resave-data DelayedDataFrame StartedAt: 2024-05-08 23:47:44 -0000 (Wed, 08 May 2024) EndedAt: 2024-05-08 23:48:22 -0000 (Wed, 08 May 2024) EllapsedTime: 38.1 seconds RetCode: 0 Status: OK PackageFile: DelayedDataFrame_1.20.0.tar.gz PackageFileSize: 551.5 KiB