Package: DelayedDataFrame Version: 1.20.0 Command: /Library/Frameworks/R.framework/Resources/bin/R CMD build --keep-empty-dirs --no-resave-data DelayedDataFrame StartedAt: 2024-10-16 23:00:20 -0400 (Wed, 16 Oct 2024) EndedAt: 2024-10-16 23:00:55 -0400 (Wed, 16 Oct 2024) EllapsedTime: 35.6 seconds RetCode: 0 Status: OK PackageFile: DelayedDataFrame_1.20.0.tar.gz PackageFileSize: 486.4 KiB