Package: DelayedDataFrame Version: 1.20.0 Command: rm -rf DelayedDataFrame.buildbin-libdir && mkdir DelayedDataFrame.buildbin-libdir && /Users/biocbuild/BBS/utils/build-universal.sh DelayedDataFrame_1.20.0.tar.gz /Library/Frameworks/R.framework/Resources/bin/R DelayedDataFrame.buildbin-libdir StartedAt: 2024-10-18 18:08:06 -0400 (Fri, 18 Oct 2024) EndedAt: 2024-10-18 18:08:33 -0400 (Fri, 18 Oct 2024) EllapsedTime: 26.9 seconds RetCode: 0 Status: OK PackageFile: DelayedDataFrame_1.20.0.tgz PackageFileSize: 910.6 KiB