Package: DelayedArray Version: 0.30.1 Command: set _R_CHECK_CODETOOLS_PROFILE_='suppressFundefMismatch=TRUE'&& E:\biocbuild\bbs-3.19-bioc\R\bin\R.exe CMD check --no-multiarch --install=check:DelayedArray.install-out.txt --library=E:\biocbuild\bbs-3.19-bioc\R\library --no-vignettes --timings DelayedArray_0.30.1.tar.gz StartedAt: 2024-10-17 00:42:05 -0400 (Thu, 17 Oct 2024) EndedAt: 2024-10-17 01:10:28 -0400 (Thu, 17 Oct 2024) EllapsedTime: 1703.4 seconds RetCode: 0 Status: WARNINGS CheckDir: DelayedArray.Rcheck Warnings: 1