Package: DelayedArray Version: 0.30.1 Command: rm -rf DelayedArray.buildbin-libdir && mkdir DelayedArray.buildbin-libdir && E:\biocbuild\bbs-3.19-bioc\R\bin\R.exe CMD INSTALL --build --library=DelayedArray.buildbin-libdir DelayedArray_0.30.1.tar.gz StartedAt: 2024-10-17 07:39:56 -0400 (Thu, 17 Oct 2024) EndedAt: 2024-10-17 07:42:22 -0400 (Thu, 17 Oct 2024) EllapsedTime: 145.5 seconds RetCode: 0 Status: OK PackageFile: DelayedArray_0.30.1.zip PackageFileSize: 2.28 MiB