Package: DelayedArray Version: 0.30.1 Command: /home/biocbuild/bbs-3.19-bioc/R/bin/R CMD INSTALL DelayedArray StartedAt: 2024-10-16 15:53:22 -0400 (Wed, 16 Oct 2024) EndedAt: 2024-10-16 15:53:49 -0400 (Wed, 16 Oct 2024) EllapsedTime: 26.7 seconds RetCode: 0 Status: OK