Package: DelayedArray Version: 0.30.1 Command: _R_CHECK_CODETOOLS_PROFILE_="suppressFundefMismatch=TRUE" /home/biocbuild/bbs-3.19-bioc/R/bin/R CMD check --install=check:DelayedArray.install-out.txt --library=/home/biocbuild/bbs-3.19-bioc/R/site-library --timings DelayedArray_0.30.1.tar.gz StartedAt: 2024-10-16 23:37:52 -0400 (Wed, 16 Oct 2024) EndedAt: 2024-10-17 00:00:20 -0400 (Thu, 17 Oct 2024) EllapsedTime: 1347.7 seconds RetCode: 0 Status: WARNINGS CheckDir: DelayedArray.Rcheck Warnings: 1