Package: DelayedArray Version: 0.30.1 Command: /home/biocbuild/bbs-3.19-bioc/R/bin/R CMD build --keep-empty-dirs --no-resave-data DelayedArray StartedAt: 2024-10-16 18:08:01 -0400 (Wed, 16 Oct 2024) EndedAt: 2024-10-16 18:08:57 -0400 (Wed, 16 Oct 2024) EllapsedTime: 55.1 seconds RetCode: 0 Status: OK PackageFile: DelayedArray_0.30.1.tar.gz PackageFileSize: 620 KiB