Package: DelayedArray Version: 0.30.1 Command: /Library/Frameworks/R.framework/Resources/bin/R CMD build --keep-empty-dirs --no-resave-data DelayedArray StartedAt: 2024-10-16 18:33:22 -0400 (Wed, 16 Oct 2024) EndedAt: 2024-10-16 18:36:11 -0400 (Wed, 16 Oct 2024) EllapsedTime: 169.2 seconds RetCode: 0 Status: OK PackageFile: DelayedArray_0.30.1.tar.gz PackageFileSize: 800.6 KiB