Package: DelayedArray Version: 0.30.1 Command: rm -rf DelayedArray.buildbin-libdir && mkdir DelayedArray.buildbin-libdir && /Users/biocbuild/BBS/utils/build-universal.sh DelayedArray_0.30.1.tar.gz /Library/Frameworks/R.framework/Resources/bin/R DelayedArray.buildbin-libdir StartedAt: 2024-10-17 15:59:42 -0400 (Thu, 17 Oct 2024) EndedAt: 2024-10-17 16:01:08 -0400 (Thu, 17 Oct 2024) EllapsedTime: 86.0 seconds RetCode: 0 Status: OK PackageFile: DelayedArray_0.30.1.tgz PackageFileSize: 2.446 MiB