Package: DelayedArray Version: 0.30.1 Command: _R_CHECK_CODETOOLS_PROFILE_="suppressFundefMismatch=TRUE" /home/biocbuild/R/R-beta-2024-04-15_r86425/bin/R CMD check --install=check:DelayedArray.install-out.txt --library=/home/biocbuild/R/R-beta-2024-04-15_r86425/site-library --no-vignettes --timings DelayedArray_0.30.1.tar.gz StartedAt: 2024-05-09 06:37:53 -0000 (Thu, 09 May 2024) EndedAt: 2024-05-09 07:08:24 -0000 (Thu, 09 May 2024) EllapsedTime: 1830.2 seconds RetCode: 0 Status: WARNINGS CheckDir: DelayedArray.Rcheck Warnings: 1