Package: DelayedArray Version: 0.30.1 Command: _R_CHECK_CODETOOLS_PROFILE_="suppressFundefMismatch=TRUE" /Library/Frameworks/R.framework/Resources/bin/R CMD check --install=check:DelayedArray.install-out.txt --library=/Library/Frameworks/R.framework/Resources/library --no-vignettes --timings DelayedArray_0.30.1.tar.gz StartedAt: 2024-06-10 13:15:51 -0400 (Mon, 10 Jun 2024) EndedAt: 2024-06-10 13:22:14 -0400 (Mon, 10 Jun 2024) EllapsedTime: 383.0 seconds RetCode: 0 Status: WARNINGS CheckDir: DelayedArray.Rcheck Warnings: 1