Package: DelayedArray Version: 0.30.1 Command: rm -rf DelayedArray.buildbin-libdir && mkdir DelayedArray.buildbin-libdir && /Users/biocbuild/BBS/utils/build-universal.sh DelayedArray_0.30.1.tar.gz /Library/Frameworks/R.framework/Resources/bin/R DelayedArray.buildbin-libdir StartedAt: 2024-06-11 10:53:44 -0400 (Tue, 11 Jun 2024) EndedAt: 2024-06-11 10:54:45 -0400 (Tue, 11 Jun 2024) EllapsedTime: 61.2 seconds RetCode: 0 Status: OK PackageFile: DelayedArray_0.30.1.tgz PackageFileSize: 2.451 MiB