Package: DelayedArray Version: 0.30.1 Command: rm -rf DelayedArray.buildbin-libdir && mkdir DelayedArray.buildbin-libdir && /Users/biocbuild/BBS/utils/build-universal.sh DelayedArray_0.30.1.tar.gz /Library/Frameworks/R.framework/Resources/bin/R DelayedArray.buildbin-libdir StartedAt: 2024-10-18 18:07:52 -0400 (Fri, 18 Oct 2024) EndedAt: 2024-10-18 18:08:35 -0400 (Fri, 18 Oct 2024) EllapsedTime: 42.9 seconds RetCode: 0 Status: OK PackageFile: DelayedArray_0.30.1.tgz PackageFileSize: 2.445 MiB