Package: DegNorm Version: 1.14.0 Command: /Library/Frameworks/R.framework/Resources/bin/R CMD INSTALL DegNorm StartedAt: 2024-10-16 16:33:44 -0400 (Wed, 16 Oct 2024) EndedAt: 2024-10-16 16:35:44 -0400 (Wed, 16 Oct 2024) EllapsedTime: 120.5 seconds RetCode: 0 Status: OK