Package: DegNorm Version: 1.14.0 Command: /Library/Frameworks/R.framework/Resources/bin/R CMD check --install=check:DegNorm.install-out.txt --library=/Library/Frameworks/R.framework/Resources/library --no-vignettes --timings DegNorm_1.14.0.tar.gz StartedAt: 2024-10-17 03:58:26 -0400 (Thu, 17 Oct 2024) EndedAt: 2024-10-17 04:15:38 -0400 (Thu, 17 Oct 2024) EllapsedTime: 1032.8 seconds RetCode: 0 Status: OK CheckDir: DegNorm.Rcheck Warnings: 0