Package: DegNorm Version: 1.14.0 Command: /Library/Frameworks/R.framework/Resources/bin/R CMD build --keep-empty-dirs --no-resave-data DegNorm StartedAt: 2024-10-16 18:32:54 -0400 (Wed, 16 Oct 2024) EndedAt: 2024-10-16 18:44:43 -0400 (Wed, 16 Oct 2024) EllapsedTime: 708.3 seconds RetCode: 0 Status: OK PackageFile: DegNorm_1.14.0.tar.gz PackageFileSize: 3.399 MiB