Package: DegNorm Version: 1.14.0 Command: /home/biocbuild/R/R-beta-2024-04-15_r86425/bin/R CMD build --keep-empty-dirs --no-resave-data DegNorm StartedAt: 2024-05-08 23:46:34 -0000 (Wed, 08 May 2024) EndedAt: 2024-05-08 23:53:34 -0000 (Wed, 08 May 2024) EllapsedTime: 419.5 seconds RetCode: 0 Status: OK PackageFile: DegNorm_1.14.0.tar.gz PackageFileSize: 3.823 MiB