Package: DegNorm Version: 1.14.0 Command: /Library/Frameworks/R.framework/Resources/bin/R CMD check --install=check:DegNorm.install-out.txt --library=/Library/Frameworks/R.framework/Resources/library --no-vignettes --timings DegNorm_1.14.0.tar.gz StartedAt: 2024-06-10 13:13:59 -0400 (Mon, 10 Jun 2024) EndedAt: 2024-06-10 13:25:57 -0400 (Mon, 10 Jun 2024) EllapsedTime: 718.1 seconds RetCode: 0 Status: OK CheckDir: DegNorm.Rcheck Warnings: 0