Package: DegNorm Version: 1.14.0 Command: /Library/Frameworks/R.framework/Resources/bin/R CMD build --keep-empty-dirs --no-resave-data DegNorm StartedAt: 2024-10-16 22:58:02 -0400 (Wed, 16 Oct 2024) EndedAt: 2024-10-16 23:03:36 -0400 (Wed, 16 Oct 2024) EllapsedTime: 334.2 seconds RetCode: 0 Status: OK PackageFile: DegNorm_1.14.0.tar.gz PackageFileSize: 3.399 MiB