Package: DegNorm Version: 1.14.0 Command: rm -rf DegNorm.buildbin-libdir && mkdir DegNorm.buildbin-libdir && /Users/biocbuild/BBS/utils/build-universal.sh DegNorm_1.14.0.tar.gz /Library/Frameworks/R.framework/Resources/bin/R DegNorm.buildbin-libdir StartedAt: 2024-10-18 18:07:33 -0400 (Fri, 18 Oct 2024) EndedAt: 2024-10-18 18:08:48 -0400 (Fri, 18 Oct 2024) EllapsedTime: 74.9 seconds RetCode: 0 Status: OK PackageFile: DegNorm_1.14.0.tgz PackageFileSize: 3.244 MiB