Package: DegCre Version: 1.0.0 Command: E:\biocbuild\bbs-3.19-bioc\R\bin\R.exe CMD check --no-multiarch --install=check:DegCre.install-out.txt --library=E:\biocbuild\bbs-3.19-bioc\R\library --no-vignettes --timings DegCre_1.0.0.tar.gz StartedAt: 2024-10-17 00:40:28 -0400 (Thu, 17 Oct 2024) EndedAt: 2024-10-17 00:47:28 -0400 (Thu, 17 Oct 2024) EllapsedTime: 420.7 seconds RetCode: 0 Status: OK CheckDir: DegCre.Rcheck Warnings: 0