Package: DegCre Version: 1.0.0 Command: rm -rf DegCre.buildbin-libdir && mkdir DegCre.buildbin-libdir && E:\biocbuild\bbs-3.19-bioc\R\bin\R.exe CMD INSTALL --build --library=DegCre.buildbin-libdir DegCre_1.0.0.tar.gz StartedAt: 2024-10-17 07:39:41 -0400 (Thu, 17 Oct 2024) EndedAt: 2024-10-17 07:40:21 -0400 (Thu, 17 Oct 2024) EllapsedTime: 40.3 seconds RetCode: 0 Status: OK PackageFile: DegCre_1.0.0.zip PackageFileSize: 2.14 MiB