Package: DegCre Version: 1.0.0 Command: F:\biocbuild\bbs-3.19-bioc\R\bin\R.exe CMD INSTALL DegCre StartedAt: 2024-06-26 16:05:47 -0400 (Wed, 26 Jun 2024) EndedAt: 2024-06-26 16:06:44 -0400 (Wed, 26 Jun 2024) EllapsedTime: 57.0 seconds RetCode: 0 Status: OK