Package: DegCre Version: 1.0.0 Command: chmod a+r DegCre -R && F:\biocbuild\bbs-3.19-bioc\R\bin\R.exe CMD build --keep-empty-dirs --no-resave-data DegCre StartedAt: 2024-06-26 18:16:06 -0400 (Wed, 26 Jun 2024) EndedAt: 2024-06-26 18:19:32 -0400 (Wed, 26 Jun 2024) EllapsedTime: 206.2 seconds RetCode: 0 Status: OK PackageFile: DegCre_1.0.0.tar.gz PackageFileSize: 2.038 MiB