Package: DegCre Version: 1.0.0 Command: rm -rf DegCre.buildbin-libdir && mkdir DegCre.buildbin-libdir && /Users/biocbuild/BBS/utils/build-universal.sh DegCre_1.0.0.tar.gz /Library/Frameworks/R.framework/Resources/bin/R DegCre.buildbin-libdir StartedAt: 2024-10-17 15:59:38 -0400 (Thu, 17 Oct 2024) EndedAt: 2024-10-17 16:01:03 -0400 (Thu, 17 Oct 2024) EllapsedTime: 84.9 seconds RetCode: 0 Status: OK PackageFile: DegCre_1.0.0.tgz PackageFileSize: 2.51 MiB