Package: DegCre Version: 1.0.0 Command: /Library/Frameworks/R.framework/Resources/bin/R CMD check --install=check:DegCre.install-out.txt --library=/Library/Frameworks/R.framework/Resources/library --no-vignettes --timings DegCre_1.0.0.tar.gz StartedAt: 2024-06-09 19:52:30 -0400 (Sun, 09 Jun 2024) EndedAt: 2024-06-09 19:59:05 -0400 (Sun, 09 Jun 2024) EllapsedTime: 395.4 seconds RetCode: 0 Status: OK CheckDir: DegCre.Rcheck Warnings: 0