Package: DegCre Version: 1.0.0 Command: rm -rf DegCre.buildbin-libdir && mkdir DegCre.buildbin-libdir && /Users/biocbuild/BBS/utils/build-universal.sh DegCre_1.0.0.tar.gz /Library/Frameworks/R.framework/Resources/bin/R DegCre.buildbin-libdir StartedAt: 2024-06-10 00:14:30 -0400 (Mon, 10 Jun 2024) EndedAt: 2024-06-10 00:15:18 -0400 (Mon, 10 Jun 2024) EllapsedTime: 48.5 seconds RetCode: 0 Status: OK PackageFile: DegCre_1.0.0.tgz PackageFileSize: 2.51 MiB