Package: DegCre Version: 1.0.0 Command: /Library/Frameworks/R.framework/Resources/bin/R CMD check --install=check:DegCre.install-out.txt --library=/Library/Frameworks/R.framework/Resources/library --no-vignettes --timings DegCre_1.0.0.tar.gz StartedAt: 2024-06-10 13:11:57 -0400 (Mon, 10 Jun 2024) EndedAt: 2024-06-10 13:22:07 -0400 (Mon, 10 Jun 2024) EllapsedTime: 610.6 seconds RetCode: 0 Status: OK CheckDir: DegCre.Rcheck Warnings: 0