Package: DegCre Version: 1.0.0 Command: /Library/Frameworks/R.framework/Resources/bin/R CMD build --keep-empty-dirs --no-resave-data DegCre StartedAt: 2024-10-16 22:57:28 -0400 (Wed, 16 Oct 2024) EndedAt: 2024-10-16 22:59:03 -0400 (Wed, 16 Oct 2024) EllapsedTime: 95.0 seconds RetCode: 0 Status: OK PackageFile: DegCre_1.0.0.tar.gz PackageFileSize: 2.416 MiB