Package: DeepPINCS Version: 1.12.0 Command: chmod a+r DeepPINCS -R && E:\biocbuild\bbs-3.19-bioc\R\bin\R.exe CMD build --keep-empty-dirs --no-resave-data DeepPINCS StartedAt: 2024-10-16 18:34:46 -0400 (Wed, 16 Oct 2024) EndedAt: 2024-10-16 18:36:34 -0400 (Wed, 16 Oct 2024) EllapsedTime: 107.3 seconds RetCode: 1 Status: ERROR PackageFile: None PackageFileSize: NA