Package: DeepPINCS Version: 1.12.0 Command: F:\biocbuild\bbs-3.19-bioc\R\bin\R.exe CMD INSTALL DeepPINCS StartedAt: 2024-06-26 16:53:45 -0400 (Wed, 26 Jun 2024) EndedAt: 2024-06-26 16:54:10 -0400 (Wed, 26 Jun 2024) EllapsedTime: 25.5 seconds RetCode: 0 Status: OK