Package: DeepPINCS Version: 1.12.0 Command: rm -rf DeepPINCS.buildbin-libdir && mkdir DeepPINCS.buildbin-libdir && F:\biocbuild\bbs-3.19-bioc\R\bin\R.exe CMD INSTALL --build --library=DeepPINCS.buildbin-libdir DeepPINCS_1.12.0.tar.gz StartedAt: 2024-06-27 08:05:42 -0400 (Thu, 27 Jun 2024) EndedAt: 2024-06-27 08:06:11 -0400 (Thu, 27 Jun 2024) EllapsedTime: 29.1 seconds RetCode: 0 Status: OK PackageFile: DeepPINCS_1.12.0.zip PackageFileSize: 2.83 MiB