Package: DeepPINCS Version: 1.12.0 Command: /home/biocbuild/bbs-3.19-bioc/R/bin/R CMD build --keep-empty-dirs --no-resave-data DeepPINCS StartedAt: 2024-10-16 18:06:41 -0400 (Wed, 16 Oct 2024) EndedAt: 2024-10-16 18:09:26 -0400 (Wed, 16 Oct 2024) EllapsedTime: 164.3 seconds RetCode: 0 Status: OK PackageFile: DeepPINCS_1.12.0.tar.gz PackageFileSize: 3.084 MiB