Package: DeepPINCS Version: 1.12.0 Command: /Library/Frameworks/R.framework/Resources/bin/R CMD build --keep-empty-dirs --no-resave-data DeepPINCS StartedAt: 2024-10-16 18:30:55 -0400 (Wed, 16 Oct 2024) EndedAt: 2024-10-16 18:39:51 -0400 (Wed, 16 Oct 2024) EllapsedTime: 536.2 seconds RetCode: 0 Status: OK PackageFile: DeepPINCS_1.12.0.tar.gz PackageFileSize: 3.11 MiB