Package: DeepPINCS Version: 1.12.0 Command: /home/biocbuild/R/R-beta-2024-04-15_r86425/bin/R CMD INSTALL DeepPINCS StartedAt: 2024-05-08 21:07:52 -0000 (Wed, 08 May 2024) EndedAt: 2024-05-08 21:08:14 -0000 (Wed, 08 May 2024) EllapsedTime: 22.3 seconds RetCode: 0 Status: OK