Package: DeepPINCS Version: 1.12.0 Command: /home/biocbuild/R/R-beta-2024-04-15_r86425/bin/R CMD build --keep-empty-dirs --no-resave-data DeepPINCS StartedAt: 2024-05-08 23:45:56 -0000 (Wed, 08 May 2024) EndedAt: 2024-05-08 23:46:34 -0000 (Wed, 08 May 2024) EllapsedTime: 38.0 seconds RetCode: 0 Status: OK PackageFile: DeepPINCS_1.12.0.tar.gz PackageFileSize: 2.464 MiB