Package: DeepPINCS Version: 1.12.0 Command: /Library/Frameworks/R.framework/Resources/bin/R CMD INSTALL DeepPINCS StartedAt: 2024-06-09 17:45:44 -0400 (Sun, 09 Jun 2024) EndedAt: 2024-06-09 17:46:07 -0400 (Sun, 09 Jun 2024) EllapsedTime: 23.0 seconds RetCode: 0 Status: OK