Package: DeepPINCS Version: 1.12.0 Command: /Library/Frameworks/R.framework/Resources/bin/R CMD INSTALL DeepPINCS StartedAt: 2024-10-16 19:00:20 -0400 (Wed, 16 Oct 2024) EndedAt: 2024-10-16 19:00:42 -0400 (Wed, 16 Oct 2024) EllapsedTime: 22.0 seconds RetCode: 0 Status: OK