Package: DeepPINCS Version: 1.12.0 Command: /Library/Frameworks/R.framework/Resources/bin/R CMD build --keep-empty-dirs --no-resave-data DeepPINCS StartedAt: 2024-10-16 22:54:21 -0400 (Wed, 16 Oct 2024) EndedAt: 2024-10-16 22:55:06 -0400 (Wed, 16 Oct 2024) EllapsedTime: 44.6 seconds RetCode: 0 Status: OK PackageFile: DeepPINCS_1.12.0.tar.gz PackageFileSize: 2.438 MiB