Package: DeconRNASeq Version: 1.46.0 Command: rm -rf DeconRNASeq.buildbin-libdir && mkdir DeconRNASeq.buildbin-libdir && /Users/biocbuild/BBS/utils/build-universal.sh DeconRNASeq_1.46.0.tar.gz /Library/Frameworks/R.framework/Resources/bin/R DeconRNASeq.buildbin-libdir StartedAt: 2024-10-17 15:59:22 -0400 (Thu, 17 Oct 2024) EndedAt: 2024-10-17 15:59:38 -0400 (Thu, 17 Oct 2024) EllapsedTime: 16.3 seconds RetCode: 0 Status: OK PackageFile: DeconRNASeq_1.46.0.tgz PackageFileSize: 6.661 MiB